BEGIN:VCALENDAR
VERSION:2.0
PRODID:-//filmfestival - ECPv6.15.17.1//NONSGML v1.0//EN
CALSCALE:GREGORIAN
METHOD:PUBLISH
X-WR-CALNAME:filmfestival
X-ORIGINAL-URL:https://filmfestival-rathausplatz.at/en/
X-WR-CALDESC:Events for filmfestival
REFRESH-INTERVAL;VALUE=DURATION:PT1H
X-Robots-Tag:noindex
X-PUBLISHED-TTL:PT1H
BEGIN:VTIMEZONE
TZID:Europe/Vienna
BEGIN:DAYLIGHT
TZOFFSETFROM:+0100
TZOFFSETTO:+0200
TZNAME:CEST
DTSTART:20240331T010000
END:DAYLIGHT
BEGIN:STANDARD
TZOFFSETFROM:+0200
TZOFFSETTO:+0100
TZNAME:CET
DTSTART:20241027T010000
END:STANDARD
BEGIN:DAYLIGHT
TZOFFSETFROM:+0100
TZOFFSETTO:+0200
TZNAME:CEST
DTSTART:20250330T010000
END:DAYLIGHT
BEGIN:STANDARD
TZOFFSETFROM:+0200
TZOFFSETTO:+0100
TZNAME:CET
DTSTART:20251026T010000
END:STANDARD
BEGIN:DAYLIGHT
TZOFFSETFROM:+0100
TZOFFSETTO:+0200
TZNAME:CEST
DTSTART:20260329T010000
END:DAYLIGHT
BEGIN:STANDARD
TZOFFSETFROM:+0200
TZOFFSETTO:+0100
TZNAME:CET
DTSTART:20261025T010000
END:STANDARD
END:VTIMEZONE
BEGIN:VEVENT
DTSTART;TZID=Europe/Vienna:20250819T204500
DTEND;TZID=Europe/Vienna:20250819T224500
DTSTAMP:20260421T205834
CREATED:20250613T095056Z
LAST-MODIFIED:20250618T100450Z
UID:12079-1755636300-1755643500@filmfestival-rathausplatz.at
SUMMARY:Eric Clapton – Crossroads Guitar Festival 2023
DESCRIPTION:Recorded live at the Crypto Arena in Los Angeles in September 2023 before 40\,000 fans\, this event features its best line-up of stars ever. Captured with 15 cameras in 4K\, the spectacular concert includes legends like Eric Clapton\, Stevie Wonder\, Santana\, John Mayer\, Sheryl Crow\, and many more. Surprising collaborations between the artists create unique musical moments.
URL:https://filmfestival-rathausplatz.at/en/event/eric-clapton-crossroads-guitar-festival-2023/
CATEGORIES:jazz / blues
ATTACH;FMTTYPE=image/png:https://filmfestival-rathausplatz.at/wp-content/uploads/sites/3/2025/06/FF25_Website_Vorschaubereich_Jazz-Blues.png
END:VEVENT
BEGIN:VEVENT
DTSTART;TZID=Europe/Vienna:20250819T170000
DTEND;TZID=Europe/Vienna:20250819T230000
DTSTAMP:20260421T205834
CREATED:20250613T095053Z
LAST-MODIFIED:20250618T100317Z
UID:12078-1755622800-1755644400@filmfestival-rathausplatz.at
SUMMARY:Energy Sunset Beats
DESCRIPTION:Live DJs from the ENERGY EXTRAVADANCE radio show provide a club feeling\nand the perfect after-work soundtrack.
URL:https://filmfestival-rathausplatz.at/en/event/energy-sunset-beats-23/
CATEGORIES:side event
ATTACH;FMTTYPE=image/png:https://filmfestival-rathausplatz.at/wp-content/uploads/sites/3/2025/06/FF25_Website_Vorschaubereich_SideEvents.png
END:VEVENT
BEGIN:VEVENT
DTSTART;TZID=Europe/Vienna:20250818T205200
DTEND;TZID=Europe/Vienna:20250818T231200
DTSTAMP:20260421T205834
CREATED:20250613T095050Z
LAST-MODIFIED:20250618T100240Z
UID:12077-1755550320-1755558720@filmfestival-rathausplatz.at
SUMMARY:The Flying Dutchman: Opera In The Quarry
DESCRIPTION:The captain’s daughter Senta dreams of a cursed seafarer who comes ashore every seven years to find the love of a woman who will redeem him. Richard Wagner’s music masterfully captures the roaring of the sea and the terror of the ghost ship. The first Wagner production at “Oper im Steinbruch” promises a unique experience in the setting of the St. Margarethen quarry.
URL:https://filmfestival-rathausplatz.at/en/event/the-flying-dutchman-opera-in-the-quarry/
CATEGORIES:opera
ATTACH;FMTTYPE=image/png:https://filmfestival-rathausplatz.at/wp-content/uploads/sites/3/2025/06/FF25_Website_Vorschaubereich_Oper-Ballett.png
END:VEVENT
BEGIN:VEVENT
DTSTART;TZID=Europe/Vienna:20250818T204500
DTEND;TZID=Europe/Vienna:20250818T205200
DTSTAMP:20260421T205834
CREATED:20250613T095046Z
LAST-MODIFIED:20250618T100210Z
UID:12076-1755549900-1755550320@filmfestival-rathausplatz.at
SUMMARY:DANUBE SO BLUE: Summer Emperors
DESCRIPTION:A humid summer in rural Albania. Two men\, defined by strength and resilience\, share a bond forged through physicality and camaraderie. \nThe best entries from the international short film competition “DANUBE SO BLUE” bring fresh Strauss sounds to Vienna’s Rathausplatz.
URL:https://filmfestival-rathausplatz.at/en/event/danube-so-blue-summer-emperors-2/
CATEGORIES:short film
ATTACH;FMTTYPE=image/png:https://filmfestival-rathausplatz.at/wp-content/uploads/sites/3/2025/06/FF25_Website_Vorschaubereich_Kurzfilm.png
END:VEVENT
BEGIN:VEVENT
DTSTART;TZID=Europe/Vienna:20250818T170000
DTEND;TZID=Europe/Vienna:20250818T230000
DTSTAMP:20260421T205834
CREATED:20250613T095038Z
LAST-MODIFIED:20250618T100047Z
UID:12075-1755536400-1755558000@filmfestival-rathausplatz.at
SUMMARY:Energy Sunset Beats
DESCRIPTION:Live DJs from the ENERGY EXTRAVADANCE radio show provide a club feeling\nand the perfect after-work soundtrack.
URL:https://filmfestival-rathausplatz.at/en/event/energy-sunset-beats-22/
CATEGORIES:side event
ATTACH;FMTTYPE=image/png:https://filmfestival-rathausplatz.at/wp-content/uploads/sites/3/2025/06/FF25_Website_Vorschaubereich_SideEvents.png
END:VEVENT
BEGIN:VEVENT
DTSTART;TZID=Europe/Vienna:20250817T204500
DTEND;TZID=Europe/Vienna:20250817T232500
DTSTAMP:20260421T205834
CREATED:20250613T095034Z
LAST-MODIFIED:20250618T095941Z
UID:12074-1755463500-1755473100@filmfestival-rathausplatz.at
SUMMARY:The Magic Flute: Vienna State Opera
DESCRIPTION:In Mozart’s “Die Zauberflöte”\, young Prince Tamino is tasked by the Queen of the Night to rescue her daughter Pamina\, whom he has fallen in love with upon seeing her portrait. Together with Papageno\, he embarks on a journey filled with trials. As a reward\, he is granted Sarastro’s place beside Pamina. Papageno also finds his perfect match\, Papagena. The production at the Vienna State Opera stands out for Barbora Horáková’s detailed\, almost cinematic direction.
URL:https://filmfestival-rathausplatz.at/en/event/the-magic-flute-vienna-state-opera/
CATEGORIES:opera
ATTACH;FMTTYPE=image/png:https://filmfestival-rathausplatz.at/wp-content/uploads/sites/3/2025/06/FF25_Website_Vorschaubereich_Oper-Ballett.png
END:VEVENT
BEGIN:VEVENT
DTSTART;TZID=Europe/Vienna:20250817T120000
DTEND;TZID=Europe/Vienna:20250817T140000
DTSTAMP:20260421T205834
CREATED:20250613T095030Z
LAST-MODIFIED:20250618T095907Z
UID:12073-1755432000-1755439200@filmfestival-rathausplatz.at
SUMMARY:Jazz Brunch\, presented by Kultursommer Wien
DESCRIPTION:Every Sunday from 12 to 2 pm\, the Jazz Brunch invites you to take a musical stroll through the heart of Vienna: Directly on Rathausplatz\, visitors can enjoy musical highlights and new discoveries from the Austrian jazz scene in the open air. From classical to modern sounds\, newcomers and experienced connoisseurs alike can immerse themselves in the world of jazz and enjoy the unique atmosphere. The program is presented by Kultursommer Wien.
URL:https://filmfestival-rathausplatz.at/en/event/jazz-brunch-presented-by-kultursommer-wien-8/
CATEGORIES:side event
ATTACH;FMTTYPE=image/png:https://filmfestival-rathausplatz.at/wp-content/uploads/sites/3/2025/06/FF25_Website_Vorschaubereich_SideEvents.png
END:VEVENT
BEGIN:VEVENT
DTSTART;TZID=Europe/Vienna:20250816T214500
DTEND;TZID=Europe/Vienna:20250816T225300
DTSTAMP:20260421T205834
CREATED:20250613T095027Z
LAST-MODIFIED:20250618T095841Z
UID:12072-1755380700-1755384780@filmfestival-rathausplatz.at
SUMMARY:OneRepublic Play Baloise Session
DESCRIPTION:One of the hottest pop bands in the USA\, OneRepublic made their debut in 2007 with the album “Dreaming Out Loud”\, featuring the global smash hit “Apologize”\, which broke sales records worldwide. The six guys from Colorado are no strangers to massive arenas\, but this time they’ll be performing in the intimate setting of the Baloise Session Festival in Basel. With OneRepublic\, expect a mix of nostalgia and fresh new sounds!
URL:https://filmfestival-rathausplatz.at/en/event/onerepublic-play-baloise-session/
CATEGORIES:pop
ATTACH;FMTTYPE=image/png:https://filmfestival-rathausplatz.at/wp-content/uploads/sites/3/2025/06/FF25_Website_Vorschaubereich_Pop-Rock.png
END:VEVENT
BEGIN:VEVENT
DTSTART;TZID=Europe/Vienna:20250816T204500
DTEND;TZID=Europe/Vienna:20250816T213000
DTSTAMP:20260421T205834
CREATED:20250613T095023Z
LAST-MODIFIED:20250618T095814Z
UID:12071-1755377100-1755379800@filmfestival-rathausplatz.at
SUMMARY:Ariana Grande - Live In London
DESCRIPTION:Multi-award-winning\, Grammy-nominated singer Ariana Grande performs tracks from her album “Sweetener”\, accompanied by an all-female orchestra. This exclusive show\, recorded live in front of a studio audience\, also sees Ariana perform some of her biggest hits. Tracks include “No Tears Left To Cry”\, “Dangerous Woman”\, “Love Me Harder”\, “Goodnight ‘n’ Go” and “God Is A Woman”.
URL:https://filmfestival-rathausplatz.at/en/event/robbie-williams-bbc-electric-proms/
CATEGORIES:pop
ATTACH;FMTTYPE=image/png:https://filmfestival-rathausplatz.at/wp-content/uploads/sites/3/2025/06/FF25_Website_Vorschaubereich_Pop-Rock.png
END:VEVENT
BEGIN:VEVENT
DTSTART;TZID=Europe/Vienna:20250703T170000
DTEND;TZID=Europe/Vienna:20250703T230000
DTSTAMP:20260421T205834
CREATED:20250620T122752Z
LAST-MODIFIED:20250801T070648Z
UID:12639-1751562000-1751583600@filmfestival-rathausplatz.at
SUMMARY:Golden Hour Sessions
DESCRIPTION:Live DJ sets from Radio ENERGY ÖSTERREICH\, after-work vibes and space for spontaneous encounters
URL:https://filmfestival-rathausplatz.at/en/event/golden-hour-sessions/
CATEGORIES:side event
ATTACH;FMTTYPE=image/png:https://filmfestival-rathausplatz.at/wp-content/uploads/sites/3/2025/06/FF25_Website_Vorschaubereich_SideEvents.png
END:VEVENT
BEGIN:VEVENT
DTSTART;TZID=Europe/Vienna:20250815T222500
DTEND;TZID=Europe/Vienna:20250815T232400
DTSTAMP:20260421T205834
CREATED:20250613T094828Z
LAST-MODIFIED:20250618T095704Z
UID:12066-1755296700-1755300240@filmfestival-rathausplatz.at
SUMMARY:Paul McCartney: BBC Electric Proms
DESCRIPTION:Sir Paul McCartney’s performance at the BBC Electric Proms was one of the best live performances of the event. A master of melodies\, the former Beatle was joined on stage by a special string section for a truly spectacular and memorable performance including tracks from his album “Memory Almost Full” as well as some crowd-pleasing classics.
URL:https://filmfestival-rathausplatz.at/en/event/paul-mccartney-bbc-electric-proms-2/
CATEGORIES:pop
ATTACH;FMTTYPE=image/png:https://filmfestival-rathausplatz.at/wp-content/uploads/sites/3/2025/06/FF25_Website_Vorschaubereich_Pop-Rock.png
END:VEVENT
BEGIN:VEVENT
DTSTART;TZID=Europe/Vienna:20250815T204500
DTEND;TZID=Europe/Vienna:20250815T223400
DTSTAMP:20260421T205834
CREATED:20250613T094825Z
LAST-MODIFIED:20250618T095641Z
UID:12065-1755290700-1755297240@filmfestival-rathausplatz.at
SUMMARY:Take That – Beautiful World Live
DESCRIPTION:In December 2007\, Take That performed in front of a crowd of ecstatic fans at London’s O2 Arena. This breathtaking show captures all the unforgettable moments\, featuring classic hits like “It Only Takes A Minute”\, “Relight My Fire”\, “Could It Be Magic”\, and “Back For Good”\, along with songs from their album “Beautiful World”.
URL:https://filmfestival-rathausplatz.at/en/event/take-that-beautiful-world-live-2/
CATEGORIES:pop
ATTACH;FMTTYPE=image/png:https://filmfestival-rathausplatz.at/wp-content/uploads/sites/3/2025/06/FF25_Website_Vorschaubereich_Pop-Rock.png
END:VEVENT
BEGIN:VEVENT
DTSTART;TZID=Europe/Vienna:20250815T170300
DTEND;TZID=Europe/Vienna:20250815T190700
DTSTAMP:20260421T205834
CREATED:20250613T094821Z
LAST-MODIFIED:20250618T095615Z
UID:12064-1755277380-1755284820@filmfestival-rathausplatz.at
SUMMARY:Fantasia
DESCRIPTION:Walt Disney’s timeless masterpiece is a charming blend of classical music and innovative animation. In this groundbreaking film\, music comes to life in eight sequences and images become melodies.
URL:https://filmfestival-rathausplatz.at/en/event/fantasia/
CATEGORIES:kids opera festival
ATTACH;FMTTYPE=image/png:https://filmfestival-rathausplatz.at/wp-content/uploads/sites/3/2025/06/FF25_Website_Vorschaubereich_Kinderoper_Klassik.png
END:VEVENT
BEGIN:VEVENT
DTSTART;TZID=Europe/Vienna:20250703T170000
DTEND;TZID=Europe/Vienna:20250703T230000
DTSTAMP:20260421T205834
CREATED:20250620T122752Z
LAST-MODIFIED:20250801T070648Z
UID:12639-1751562000-1751583600@filmfestival-rathausplatz.at
SUMMARY:Golden Hour Sessions
DESCRIPTION:Live DJ sets from Radio ENERGY ÖSTERREICH\, after-work vibes and space for spontaneous encounters
URL:https://filmfestival-rathausplatz.at/en/event/golden-hour-sessions/
CATEGORIES:side event
ATTACH;FMTTYPE=image/png:https://filmfestival-rathausplatz.at/wp-content/uploads/sites/3/2025/06/FF25_Website_Vorschaubereich_SideEvents.png
END:VEVENT
BEGIN:VEVENT
DTSTART;TZID=Europe/Vienna:20250815T170000
DTEND;TZID=Europe/Vienna:20250815T170300
DTSTAMP:20260421T205834
CREATED:20250613T094817Z
LAST-MODIFIED:20250618T095542Z
UID:12063-1755277200-1755277380@filmfestival-rathausplatz.at
SUMMARY:Island
DESCRIPTION:On a small island a bunch of exotic creatures meet each other.
URL:https://filmfestival-rathausplatz.at/en/event/island/
CATEGORIES:kids opera festival
ATTACH;FMTTYPE=image/png:https://filmfestival-rathausplatz.at/wp-content/uploads/sites/3/2025/06/FF25_Website_Vorschaubereich_Kinderoper_Kurzfilm.png
END:VEVENT
BEGIN:VEVENT
DTSTART;TZID=Europe/Vienna:20250815T140000
DTEND;TZID=Europe/Vienna:20250815T170000
DTSTAMP:20260421T205834
CREATED:20250613T094809Z
LAST-MODIFIED:20250618T095449Z
UID:12062-1755266400-1755277200@filmfestival-rathausplatz.at
SUMMARY:Mein SportPlatz
DESCRIPTION:As a prelude to the musical enjoyment\, there will also be an activity program by the Mein SportPlatz initiative in the Rathauspark from 2 pm. Participation stations\, fun games and other sporting activities offer plenty of opportunities for young music lovers to let off steam before the performance. \nEvery Friday from 2 to 5 pm
URL:https://filmfestival-rathausplatz.at/en/event/mein-sportplatz-7/
CATEGORIES:side event
ATTACH;FMTTYPE=image/png:https://filmfestival-rathausplatz.at/wp-content/uploads/sites/3/2025/06/FF25_Website_Vorschaubereich_SideEvents.png
END:VEVENT
BEGIN:VEVENT
DTSTART;TZID=Europe/Vienna:20250814T222000
DTEND;TZID=Europe/Vienna:20250814T231900
DTSTAMP:20260421T205834
CREATED:20250613T094806Z
LAST-MODIFIED:20250618T095416Z
UID:12061-1755210000-1755213540@filmfestival-rathausplatz.at
SUMMARY:Best Of Glastonbury 2023 – With Arctic Monkeys\, Elton John\, Guns N' Roses\, Foo Fighters\, Lewis Capaldi\, Lizzo
DESCRIPTION:Glastonbury 2023 brings the biggest stars to the iconic stage at Worthy Farm. Get ready for unforgettable performances and moments\, with headliners likeArctic Monkeys\, Elton John\, Guns N’ Roses\, Foo Fighters\, Lewis Capaldi\, Lizzo. Experience the incredible festival atmosphere and enjoy the highlights of this iconic festival!
URL:https://filmfestival-rathausplatz.at/en/event/best-of-glastonbury-2023-with-arctic-monkeys-elton-john-guns-n-roses-foo-fighters-lewis-capaldi-lizzo-2/
CATEGORIES:pop
ATTACH;FMTTYPE=image/png:https://filmfestival-rathausplatz.at/wp-content/uploads/sites/3/2025/06/FF25_Website_Vorschaubereich_Pop-Rock.png
END:VEVENT
BEGIN:VEVENT
DTSTART;TZID=Europe/Vienna:20250814T204500
DTEND;TZID=Europe/Vienna:20250814T222000
DTSTAMP:20260421T205834
CREATED:20250613T094802Z
LAST-MODIFIED:20250618T095332Z
UID:12060-1755204300-1755210000@filmfestival-rathausplatz.at
SUMMARY:Queen Rock Montreal
DESCRIPTION:Digitally re-mastered for the first time\, experience rock’n’roll icons Freddie Mercury\, Brian May\, Roger Taylor and John Deacon in a historic and electrifying live concert from 1981. One of the world’s most famous rock bands delivers an unforgettable setlist with their greatest hits\, including “We Will Rock You”\, “Somebody To Love”\, “Under Pressure”\, “Bohemian Rhapsody”\, and “We Are The Champions”.
URL:https://filmfestival-rathausplatz.at/en/event/queen-rock-montreal-2/
CATEGORIES:rock
ATTACH;FMTTYPE=image/png:https://filmfestival-rathausplatz.at/wp-content/uploads/sites/3/2025/06/FF25_Website_Vorschaubereich_Pop-Rock.png
END:VEVENT
BEGIN:VEVENT
DTSTART;TZID=Europe/Vienna:20250814T183000
DTEND;TZID=Europe/Vienna:20250814T193000
DTSTAMP:20260421T205834
CREATED:20250620T121004Z
LAST-MODIFIED:20250620T121004Z
UID:12633-1755196200-1755199800@filmfestival-rathausplatz.at
SUMMARY:FILM FESTIVAL SOUNDS presented by Aperol
DESCRIPTION:True friendship becomes a musical superpower. Since 2019\, Alex and Ulrich have wowed audiences with their mix of pop\, rock\, and humor. With over 2 million streams and radio airplay to their name\, their success speaks volumes. Whether as a full band supporting Herbert Grönemeyer or as a duo on the Aperol Spritz Piazza – ZWEIMANN is an experience not to miss.
URL:https://filmfestival-rathausplatz.at/en/event/film-festival-sounds-presented-by-aperol-6/
CATEGORIES:side event
ATTACH;FMTTYPE=image/png:https://filmfestival-rathausplatz.at/wp-content/uploads/sites/3/2025/06/FF25_Website_Vorschaubereich_SideEvents.png
END:VEVENT
BEGIN:VEVENT
DTSTART;TZID=Europe/Vienna:20250703T170000
DTEND;TZID=Europe/Vienna:20250703T230000
DTSTAMP:20260421T205834
CREATED:20250620T122752Z
LAST-MODIFIED:20250801T070648Z
UID:12639-1751562000-1751583600@filmfestival-rathausplatz.at
SUMMARY:Golden Hour Sessions
DESCRIPTION:Live DJ sets from Radio ENERGY ÖSTERREICH\, after-work vibes and space for spontaneous encounters
URL:https://filmfestival-rathausplatz.at/en/event/golden-hour-sessions/
CATEGORIES:side event
ATTACH;FMTTYPE=image/png:https://filmfestival-rathausplatz.at/wp-content/uploads/sites/3/2025/06/FF25_Website_Vorschaubereich_SideEvents.png
END:VEVENT
BEGIN:VEVENT
DTSTART;TZID=Europe/Vienna:20250813T214900
DTEND;TZID=Europe/Vienna:20250813T224400
DTSTAMP:20260421T205834
CREATED:20250613T094758Z
LAST-MODIFIED:20250709T052213Z
UID:12059-1755121740-1755125040@filmfestival-rathausplatz.at
SUMMARY:Cosmic Baths & Broken Teacups – Journeys\, Rituals\, Rebellions presented by Vienna Shorts
DESCRIPTION:From space heroines to bathtub philosophy and animated piano lesson nightmares – this short film programme meanders through retro-futuristic visions\, art-critical reflections\, and musical sensory worlds. Featuring Friedrich Liechtenstein\, Atoms for Peace\, Bilderbuch\, and many more\, the cinema becomes a stage for eccentric journeys\, rebellious imagination\, and sharp audiovisual boundary-pushing.
URL:https://filmfestival-rathausplatz.at/en/event/cosmic-baths-broken-teacups-journeys-rituals-rebellions/
CATEGORIES:short film
ATTACH;FMTTYPE=image/png:https://filmfestival-rathausplatz.at/wp-content/uploads/sites/3/2025/06/FF25_Website_Vorschaubereich_Kurzfilm.png
END:VEVENT
BEGIN:VEVENT
DTSTART;TZID=Europe/Vienna:20250813T204500
DTEND;TZID=Europe/Vienna:20250813T214900
DTSTAMP:20260421T205834
CREATED:20250613T094755Z
LAST-MODIFIED:20250618T095200Z
UID:12058-1755117900-1755121740@filmfestival-rathausplatz.at
SUMMARY:Oscar Peterson - A Night In Vienna
DESCRIPTION:“A Night In Vienna” showcases Oscar Peterson in a late-career masterpiece. With deep emotion\, refined artistry\, and palpable joy\, he delivers an unforgettable performance full of musical brilliance and expressive power.
URL:https://filmfestival-rathausplatz.at/en/event/oscar-peterson-a-night-in-vienna/
CATEGORIES:jazz / blues
ATTACH;FMTTYPE=image/png:https://filmfestival-rathausplatz.at/wp-content/uploads/sites/3/2025/06/FF25_Website_Vorschaubereich_Jazz-Blues.png
END:VEVENT
BEGIN:VEVENT
DTSTART;TZID=Europe/Vienna:20250813T170000
DTEND;TZID=Europe/Vienna:20250813T230000
DTSTAMP:20260421T205834
CREATED:20250613T094533Z
LAST-MODIFIED:20250618T095132Z
UID:12054-1755104400-1755126000@filmfestival-rathausplatz.at
SUMMARY:Energy Sunset Beats
DESCRIPTION:Live DJs from the ENERGY EXTRAVADANCE radio show provide a club feeling\nand the perfect after-work soundtrack.
URL:https://filmfestival-rathausplatz.at/en/event/energy-sunset-beats-21/
CATEGORIES:side event
ATTACH;FMTTYPE=image/png:https://filmfestival-rathausplatz.at/wp-content/uploads/sites/3/2025/06/FF25_Website_Vorschaubereich_SideEvents.png
END:VEVENT
BEGIN:VEVENT
DTSTART;TZID=Europe/Vienna:20250812T204500
DTEND;TZID=Europe/Vienna:20250812T221300
DTSTAMP:20260421T205834
CREATED:20250613T094527Z
LAST-MODIFIED:20250618T095055Z
UID:12053-1755031500-1755036780@filmfestival-rathausplatz.at
SUMMARY:The Renaissance Of Notre-Dame De Paris
DESCRIPTION:Five years after the fire\, Notre-Dame de Paris opened its doors with a concert honouring the restoration. With performances inside and around the cathedral\, accompanied by an impressive light show\, artists such as Pharrell Williams\, Angélique Kidjo\, Lang Lang\, and Yo-Yo Ma captivated the audience. The concert was conducted by Gustavo Dudamel with the Orchestre Philharmonique de Radio France.
URL:https://filmfestival-rathausplatz.at/en/event/the-renaissance-of-notre-dame-de-paris/
CATEGORIES:gala concert
ATTACH;FMTTYPE=image/png:https://filmfestival-rathausplatz.at/wp-content/uploads/sites/3/2025/06/FF25_Website_Vorschaubereich_Klassik.png
END:VEVENT
BEGIN:VEVENT
DTSTART;TZID=Europe/Vienna:20250812T170000
DTEND;TZID=Europe/Vienna:20250812T230000
DTSTAMP:20260421T205834
CREATED:20250613T094523Z
LAST-MODIFIED:20250618T094832Z
UID:12052-1755018000-1755039600@filmfestival-rathausplatz.at
SUMMARY:Energy Sunset Beats
DESCRIPTION:Live DJs from the ENERGY EXTRAVADANCE radio show provide a club feeling\nand the perfect after-work soundtrack.
URL:https://filmfestival-rathausplatz.at/en/event/energy-sunset-beats-20/
CATEGORIES:side event
ATTACH;FMTTYPE=image/png:https://filmfestival-rathausplatz.at/wp-content/uploads/sites/3/2025/06/FF25_Website_Vorschaubereich_SideEvents.png
END:VEVENT
BEGIN:VEVENT
DTSTART;TZID=Europe/Vienna:20250811T205000
DTEND;TZID=Europe/Vienna:20250811T232500
DTSTAMP:20260421T205834
CREATED:20250613T094520Z
LAST-MODIFIED:20250618T094301Z
UID:12051-1754945400-1754954700@filmfestival-rathausplatz.at
SUMMARY:Carmen: Royal Opera House
DESCRIPTION:In a remote Spanish village\, the free-spirited Carmen warns that any man she loves should beware. However\, when she seduces Don José\, a passionate drama unfolds. Damiano Michieletto’s production brings the intensity of Bizet’s music\, such as the “Habanera” and the “Toreador Song”\, to life\, capturing the raw emotion and tension of the story.
URL:https://filmfestival-rathausplatz.at/en/event/carmen-royal-opera-house/
CATEGORIES:opera
ATTACH;FMTTYPE=image/png:https://filmfestival-rathausplatz.at/wp-content/uploads/sites/3/2025/06/FF25_Website_Vorschaubereich_Oper-Ballett.png
END:VEVENT
BEGIN:VEVENT
DTSTART;TZID=Europe/Vienna:20250811T204500
DTEND;TZID=Europe/Vienna:20250811T205000
DTSTAMP:20260421T205834
CREATED:20250613T094516Z
LAST-MODIFIED:20250618T094155Z
UID:12050-1754945100-1754945400@filmfestival-rathausplatz.at
SUMMARY:DANUBE SO BLUE: A Diminishing Blue
DESCRIPTION:In a near-future flooded city\, Billie navigates a surreal carnival of balls and societal decay\, all set to “The Blue Danube”. Created entirely with AI\, this film visualizes hauntingly realistic flood scenarios based on recent Austrian events\, exploring humanity’s resilience and the unsettling. \nThe best entries from the international short film competition “DANUBE SO BLUE” bring fresh Strauss sounds to Vienna’s Rathausplatz.
URL:https://filmfestival-rathausplatz.at/en/event/danube-so-blue-a-diminishing-blue-2/
CATEGORIES:short film
ATTACH;FMTTYPE=image/png:https://filmfestival-rathausplatz.at/wp-content/uploads/sites/3/2025/06/FF25_Website_Vorschaubereich_Kurzfilm.png
END:VEVENT
BEGIN:VEVENT
DTSTART;TZID=Europe/Vienna:20250811T170000
DTEND;TZID=Europe/Vienna:20250811T230000
DTSTAMP:20260421T205834
CREATED:20250613T094508Z
LAST-MODIFIED:20250618T094112Z
UID:12049-1754931600-1754953200@filmfestival-rathausplatz.at
SUMMARY:Energy Sunset Beats
DESCRIPTION:Live DJs from the ENERGY EXTRAVADANCE radio show provide a club feeling\nand the perfect after-work soundtrack.
URL:https://filmfestival-rathausplatz.at/en/event/energy-sunset-beats-19/
CATEGORIES:side event
ATTACH;FMTTYPE=image/png:https://filmfestival-rathausplatz.at/wp-content/uploads/sites/3/2025/06/FF25_Website_Vorschaubereich_SideEvents.png
END:VEVENT
BEGIN:VEVENT
DTSTART;TZID=Europe/Vienna:20250810T210000
DTEND;TZID=Europe/Vienna:20250810T235100
DTSTAMP:20260421T205834
CREATED:20250613T094504Z
LAST-MODIFIED:20250618T094047Z
UID:12048-1754859600-1754869860@filmfestival-rathausplatz.at
SUMMARY:Die Fledermaus: Vienna State Opera
DESCRIPTION:Intrigues\, mix-ups\, and amorous adventures set in 19th-century Vienna: The wealthy Gabriel von Eisenstein is sentenced to prison but escapes his fate and attends a party. There\, he encounters his wife\, Rosalinde\, who has disguised herself as a mysterious stranger. Disguises and unexpected twists keep the guests on their toes as they become immersed in music and intrigue. Director Otto Schenk viewed “Die Fledermaus” as a blend of sentimentality and a devilish craving for entertainment that leads to humiliations.
URL:https://filmfestival-rathausplatz.at/en/event/die-fledermaus-vienna-state-opera/
CATEGORIES:operetta
ATTACH;FMTTYPE=image/png:https://filmfestival-rathausplatz.at/wp-content/uploads/sites/3/2025/06/FF25_Website_Vorschaubereich_Operette-Musical.png
END:VEVENT
BEGIN:VEVENT
DTSTART;TZID=Europe/Vienna:20250810T120000
DTEND;TZID=Europe/Vienna:20250810T140000
DTSTAMP:20260421T205834
CREATED:20250613T094500Z
LAST-MODIFIED:20250616T131658Z
UID:12047-1754827200-1754834400@filmfestival-rathausplatz.at
SUMMARY:Jazz Brunch\, presented by Kultursommer Wien
DESCRIPTION:Every Sunday from 12 to 2 pm\, the Jazz Brunch invites you to take a musical stroll through the heart of Vienna: Directly on Rathausplatz\, visitors can enjoy musical highlights and new discoveries from the Austrian jazz scene in the open air. From classical to modern sounds\, newcomers and experienced connoisseurs alike can immerse themselves in the world of jazz and enjoy the unique atmosphere. The program is presented by Kultursommer Wien.
URL:https://filmfestival-rathausplatz.at/en/event/jazz-brunch-presented-by-kultursommer-wien-7/
CATEGORIES:side event
ATTACH;FMTTYPE=image/png:https://filmfestival-rathausplatz.at/wp-content/uploads/sites/3/2025/06/FF25_Website_Vorschaubereich_SideEvents.png
END:VEVENT
END:VCALENDAR