BEGIN:VCALENDAR
VERSION:2.0
PRODID:-//filmfestival - ECPv6.15.17.1//NONSGML v1.0//EN
CALSCALE:GREGORIAN
METHOD:PUBLISH
X-WR-CALNAME:filmfestival
X-ORIGINAL-URL:https://filmfestival-rathausplatz.at/en/
X-WR-CALDESC:Events for filmfestival
REFRESH-INTERVAL;VALUE=DURATION:PT1H
X-Robots-Tag:noindex
X-PUBLISHED-TTL:PT1H
BEGIN:VTIMEZONE
TZID:Europe/Vienna
BEGIN:DAYLIGHT
TZOFFSETFROM:+0100
TZOFFSETTO:+0200
TZNAME:CEST
DTSTART:20240331T010000
END:DAYLIGHT
BEGIN:STANDARD
TZOFFSETFROM:+0200
TZOFFSETTO:+0100
TZNAME:CET
DTSTART:20241027T010000
END:STANDARD
BEGIN:DAYLIGHT
TZOFFSETFROM:+0100
TZOFFSETTO:+0200
TZNAME:CEST
DTSTART:20250330T010000
END:DAYLIGHT
BEGIN:STANDARD
TZOFFSETFROM:+0200
TZOFFSETTO:+0100
TZNAME:CET
DTSTART:20251026T010000
END:STANDARD
BEGIN:DAYLIGHT
TZOFFSETFROM:+0100
TZOFFSETTO:+0200
TZNAME:CEST
DTSTART:20260329T010000
END:DAYLIGHT
BEGIN:STANDARD
TZOFFSETFROM:+0200
TZOFFSETTO:+0100
TZNAME:CET
DTSTART:20261025T010000
END:STANDARD
END:VTIMEZONE
BEGIN:VEVENT
DTSTART;TZID=Europe/Vienna:20250831T201500
DTEND;TZID=Europe/Vienna:20250831T231900
DTSTAMP:20260421T145655
CREATED:20250613T100022Z
LAST-MODIFIED:20250618T063943Z
UID:12119-1756671300-1756682340@filmfestival-rathausplatz.at
SUMMARY:Così Fan Tutte: Vienna State Opera
DESCRIPTION:In “Così Fan Tutte”\, Don Alfonso makes a bet with Guglielmo and Ferrando that their fiancées could easily be unfaithful. Disguised\, the two men succeed in seducing each other’s fiancée. In Barrie Kosky’s production\, the classic opera becomes a “theater within a theater\,” cleverly playing with the boundary between reality and performance. By the second act\, it becomes impossible to distinguish what is real and what is fiction.
URL:https://filmfestival-rathausplatz.at/en/event/cosi-fan-tutte-vienna-state-opera/
CATEGORIES:opera
ATTACH;FMTTYPE=image/png:https://filmfestival-rathausplatz.at/wp-content/uploads/sites/3/2025/06/FF25_Website_Vorschaubereich_Oper-Ballett.png
END:VEVENT
BEGIN:VEVENT
DTSTART;TZID=Europe/Vienna:20250831T120000
DTEND;TZID=Europe/Vienna:20250831T140000
DTSTAMP:20260421T145655
CREATED:20250613T100006Z
LAST-MODIFIED:20250618T063419Z
UID:12115-1756641600-1756648800@filmfestival-rathausplatz.at
SUMMARY:Jazz Brunch\, presented by Kultursommer Wien
DESCRIPTION:Every Sunday from 12 to 2 pm\, the Jazz Brunch invites you to take a musical stroll through the heart of Vienna: Directly on Rathausplatz\, visitors can enjoy musical highlights and new discoveries from the Austrian jazz scene in the open air. From classical to modern sounds\, newcomers and experienced connoisseurs alike can immerse themselves in the world of jazz and enjoy the unique atmosphere. The program is presented by Kultursommer Wien.
URL:https://filmfestival-rathausplatz.at/en/event/jazz-brunch-presented-by-kultursommer-wien-10/
CATEGORIES:side event
ATTACH;FMTTYPE=image/png:https://filmfestival-rathausplatz.at/wp-content/uploads/sites/3/2025/06/FF25_Website_Vorschaubereich_SideEvents.png
END:VEVENT
BEGIN:VEVENT
DTSTART;TZID=Europe/Vienna:20250830T211100
DTEND;TZID=Europe/Vienna:20250830T224300
DTSTAMP:20260421T145655
CREATED:20250613T100018Z
LAST-MODIFIED:20250618T063715Z
UID:12118-1756588260-1756593780@filmfestival-rathausplatz.at
SUMMARY:P!nk – Live From Wembley Arena
DESCRIPTION:P!nk has always pushed the envelope as much in her music as in her attitude\, style and live performances. This show was captured in a 15 camera high-definition shoot in her final sold-out London “I’m Not Dead” tour date. P!nk belts out “Stupid Girls”\, “Who Knew”\, and “Nobody Knows” and classic hits like “Don’t Let Me Get Me”\, “Get The Party Started”\, and “Family Portrait”.
URL:https://filmfestival-rathausplatz.at/en/event/pnk-live-from-wembley-arena-2/
CATEGORIES:pop
ATTACH;FMTTYPE=image/png:https://filmfestival-rathausplatz.at/wp-content/uploads/sites/3/2025/06/FF25_Website_Vorschaubereich_Pop-Rock.png
END:VEVENT
BEGIN:VEVENT
DTSTART;TZID=Europe/Vienna:20250830T201500
DTEND;TZID=Europe/Vienna:20250830T211100
DTSTAMP:20260421T145655
CREATED:20250613T100014Z
LAST-MODIFIED:20250618T063624Z
UID:12117-1756584900-1756588260@filmfestival-rathausplatz.at
SUMMARY:Lewis Capaldi Plays Baloise Session
DESCRIPTION:In November 2022\, Scottish singer-songwriter Lewis Capaldi performed at the Baloise Session in Basel. This annual music festival presents international artists in an intimate atmosphere. Capaldi\, known for his powerful voice and emotional lyrics\, thrilled the audience with songs such as “Someone You Loved” and “Before You Go”.
URL:https://filmfestival-rathausplatz.at/en/event/lewis-capaldi-plays-baloise-session-2/
CATEGORIES:pop
ATTACH;FMTTYPE=image/png:https://filmfestival-rathausplatz.at/wp-content/uploads/sites/3/2025/06/FF25_Website_Vorschaubereich_Pop-Rock.png
END:VEVENT
BEGIN:VEVENT
DTSTART;TZID=Europe/Vienna:20250703T170000
DTEND;TZID=Europe/Vienna:20250703T230000
DTSTAMP:20260421T145655
CREATED:20250620T122752Z
LAST-MODIFIED:20250801T070648Z
UID:12639-1751562000-1751583600@filmfestival-rathausplatz.at
SUMMARY:Golden Hour Sessions
DESCRIPTION:Live DJ sets from Radio ENERGY ÖSTERREICH\, after-work vibes and space for spontaneous encounters
URL:https://filmfestival-rathausplatz.at/en/event/golden-hour-sessions/
CATEGORIES:side event
ATTACH;FMTTYPE=image/png:https://filmfestival-rathausplatz.at/wp-content/uploads/sites/3/2025/06/FF25_Website_Vorschaubereich_SideEvents.png
END:VEVENT
BEGIN:VEVENT
DTSTART;TZID=Europe/Vienna:20250830T160000
DTEND;TZID=Europe/Vienna:20250830T180000
DTSTAMP:20260421T145655
CREATED:20250613T100010Z
LAST-MODIFIED:20250618T063531Z
UID:12116-1756569600-1756576800@filmfestival-rathausplatz.at
SUMMARY:Closing concert of the 43rd Austrian Brass Music Festival
DESCRIPTION:The “Music on the Move” parade is the highlight of the 43rd Austrian Brass Music Festival. Bands from all over Austria march in state formations from Maria-Theresien-Platz across the Ring to Rathausplatz. The grand finale of this festival is a final concert in front of Vienna City Hall with a large orchestra of up to 1\,000 musicians.
URL:https://filmfestival-rathausplatz.at/en/event/closing-concert-of-the-43rd-austrian-brass-music-festival/
CATEGORIES:side event
ATTACH;FMTTYPE=image/png:https://filmfestival-rathausplatz.at/wp-content/uploads/sites/3/2025/06/FF25_Website_Vorschaubereich_SideEvents.png
END:VEVENT
BEGIN:VEVENT
DTSTART;TZID=Europe/Vienna:20250829T214200
DTEND;TZID=Europe/Vienna:20250829T234200
DTSTAMP:20260421T145655
CREATED:20250613T095959Z
LAST-MODIFIED:20250618T062320Z
UID:12114-1756503720-1756510920@filmfestival-rathausplatz.at
SUMMARY:Tina Turner –  Live!
DESCRIPTION:A powerful live concert from Tina Turner at the GelreDome in Arnhem\, Netherlands\, as part of her “50th Anniversary Tour”. The tour covered 90 shows across 40 cities in North America and Europe. In total\, Tina performed to over a million fans. She performed her biggest hits\, including “What’s Love Got To Do With It”\, “The Best”\, “Private Dancer”\, and “We Don’t Need Another Hero”.
URL:https://filmfestival-rathausplatz.at/en/event/tina-turner-live-2/
ATTACH;FMTTYPE=image/png:https://filmfestival-rathausplatz.at/wp-content/uploads/sites/3/2025/06/FF25_Website_Vorschaubereich_Pop-Rock.png
END:VEVENT
BEGIN:VEVENT
DTSTART;TZID=Europe/Vienna:20250829T201500
DTEND;TZID=Europe/Vienna:20250829T214200
DTSTAMP:20260421T145655
CREATED:20250613T095955Z
LAST-MODIFIED:20250618T062204Z
UID:12113-1756498500-1756503720@filmfestival-rathausplatz.at
SUMMARY:Bryan Adams – Live At Royal Albert Hall
DESCRIPTION:Bryan Adams performed at the legendary Royal Albert Hall in London\, to showcase his classic album “Reckless” in its entirety. Released in 1984\, “Reckless” made Bryan Adams a global superstar\, becoming the first Canadian album to sell over a million copies in Canada and peaking at number one on the US Billboard 200. Hits such as “Run To You”\, “Summer Of ’69”\, and “Heaven” were featured in the performance.
URL:https://filmfestival-rathausplatz.at/en/event/bryan-adams-live-at-royal-albert-hall-2/
ATTACH;FMTTYPE=image/png:https://filmfestival-rathausplatz.at/wp-content/uploads/sites/3/2025/06/FF25_Website_Vorschaubereich_Pop-Rock.png
END:VEVENT
BEGIN:VEVENT
DTSTART;TZID=Europe/Vienna:20250829T170400
DTEND;TZID=Europe/Vienna:20250829T181000
DTSTAMP:20260421T145655
CREATED:20250613T095952Z
LAST-MODIFIED:20250618T062109Z
UID:12112-1756487040-1756491000@filmfestival-rathausplatz.at
SUMMARY:The Magic Flute For Children
DESCRIPTION:Tasked by the Queen of the Night\, Tamino sets out to rescue Pamina from Sarastro – but love must endure trials before triumph. In this child-friendly adaptation of Mozart’s classic\, star tenor Rolando Villazón narrates as Papageno\, joined by Miriam Kutrowatz as Papagena and Hiroshi Amako as Tamino. Philippe Jordan conducts this magical journey into Mozart’s world.
URL:https://filmfestival-rathausplatz.at/en/event/the-magic-flute-for-children/
CATEGORIES:kids opera festival
ATTACH;FMTTYPE=image/png:https://filmfestival-rathausplatz.at/wp-content/uploads/sites/3/2025/06/FF25_Website_Vorschaubereich_Kinderoper_Oper-Ballett.png
END:VEVENT
BEGIN:VEVENT
DTSTART;TZID=Europe/Vienna:20250703T170000
DTEND;TZID=Europe/Vienna:20250703T230000
DTSTAMP:20260421T145655
CREATED:20250620T122752Z
LAST-MODIFIED:20250801T070648Z
UID:12639-1751562000-1751583600@filmfestival-rathausplatz.at
SUMMARY:Golden Hour Sessions
DESCRIPTION:Live DJ sets from Radio ENERGY ÖSTERREICH\, after-work vibes and space for spontaneous encounters
URL:https://filmfestival-rathausplatz.at/en/event/golden-hour-sessions/
CATEGORIES:side event
ATTACH;FMTTYPE=image/png:https://filmfestival-rathausplatz.at/wp-content/uploads/sites/3/2025/06/FF25_Website_Vorschaubereich_SideEvents.png
END:VEVENT
BEGIN:VEVENT
DTSTART;TZID=Europe/Vienna:20250829T170000
DTEND;TZID=Europe/Vienna:20250829T170400
DTSTAMP:20260421T145655
CREATED:20250613T095949Z
LAST-MODIFIED:20250618T061951Z
UID:12111-1756486800-1756487040@filmfestival-rathausplatz.at
SUMMARY:Rhino
DESCRIPTION:The rhinoceros is looking forward to his date with the lady rhino.
URL:https://filmfestival-rathausplatz.at/en/event/rhino/
CATEGORIES:kids opera festival
ATTACH;FMTTYPE=image/png:https://filmfestival-rathausplatz.at/wp-content/uploads/sites/3/2025/06/FF25_Website_Vorschaubereich_Kinderoper_Kurzfilm.png
END:VEVENT
BEGIN:VEVENT
DTSTART;TZID=Europe/Vienna:20250829T140000
DTEND;TZID=Europe/Vienna:20250829T170000
DTSTAMP:20260421T145655
CREATED:20250613T095945Z
LAST-MODIFIED:20250618T061922Z
UID:12110-1756476000-1756486800@filmfestival-rathausplatz.at
SUMMARY:Mein SportPlatz
DESCRIPTION:As a prelude to the musical enjoyment\, there will also be an activity program by the Mein SportPlatz initiative in the Rathauspark from 2 pm. Participation stations\, fun games and other sporting activities offer plenty of opportunities for young music lovers to let off steam before the performance. \nEvery Friday from 2 to 5 pm
URL:https://filmfestival-rathausplatz.at/en/event/mein-sportplatz-9/
CATEGORIES:side event
ATTACH;FMTTYPE=image/png:https://filmfestival-rathausplatz.at/wp-content/uploads/sites/3/2025/06/FF25_Website_Vorschaubereich_SideEvents.png
END:VEVENT
BEGIN:VEVENT
DTSTART;TZID=Europe/Vienna:20250828T223000
DTEND;TZID=Europe/Vienna:20250828T232900
DTSTAMP:20260421T145655
CREATED:20250613T095841Z
LAST-MODIFIED:20250618T060202Z
UID:12106-1756420200-1756423740@filmfestival-rathausplatz.at
SUMMARY:Best Of Glastonbury 2023 – With Foo Fighters\, Guns N' Roses\, Texas\, The Hu
DESCRIPTION:Glastonbury 2023 brings the biggest stars to the iconic stage at Worthy Farm. Get ready for unforgettable performances and moments\, with headliners like Foo Fighters\, Guns N’ Roses\, Texas and The Hu. Experience the incredible festival atmosphere and enjoy the highlights of this iconic festival!
URL:https://filmfestival-rathausplatz.at/en/event/best-of-glastonbury-2023-with-foo-fighters-guns-n-roses-texas-the-hu-2/
CATEGORIES:rock
ATTACH;FMTTYPE=image/png:https://filmfestival-rathausplatz.at/wp-content/uploads/sites/3/2025/06/FF25_Website_Vorschaubereich_Pop-Rock.png
END:VEVENT
BEGIN:VEVENT
DTSTART;TZID=Europe/Vienna:20250828T203000
DTEND;TZID=Europe/Vienna:20250828T222700
DTSTAMP:20260421T145655
CREATED:20250613T095838Z
LAST-MODIFIED:20250618T055731Z
UID:12105-1756413000-1756420020@filmfestival-rathausplatz.at
SUMMARY:The Rolling Stones – Sweet Summer Sun: Hyde Park Live
DESCRIPTION:In the summer of 2013\, over 100\,000 excited fans gathered in Hyde Park to witness Mick Jagger\, Keith Richards\, Charlie Watts\, and Ronnie Wood perform two spectacular open-air concerts. The Rolling Stones delivered a five-star show packed with hits like “Start Me Up”\, “Miss You”\, “Gimme Shelter”\, “Doom And Gloom”\, and “Sympathy For The Devil”\, along with a few surprises.
URL:https://filmfestival-rathausplatz.at/en/event/the-rolling-stones-sweet-summer-sun-hyde-park-live-2/
CATEGORIES:rock
ATTACH;FMTTYPE=image/png:https://filmfestival-rathausplatz.at/wp-content/uploads/sites/3/2025/06/FF25_Website_Vorschaubereich_Pop-Rock.png
END:VEVENT
BEGIN:VEVENT
DTSTART;TZID=Europe/Vienna:20250828T183000
DTEND;TZID=Europe/Vienna:20250828T193000
DTSTAMP:20260421T145655
CREATED:20250620T121220Z
LAST-MODIFIED:20250630T115111Z
UID:12637-1756405800-1756409400@filmfestival-rathausplatz.at
SUMMARY:FILM FESTIVAL SOUNDS presented by Aperol
DESCRIPTION:Christina Kosik is the voice of a new generation – bold\, unmistakable\, and true to herself. Her sound merges Austropop sincerity in a charming Viennese dialect with the global flair of artists like Taylor Swift or Dua Lipa. Her songs are about self-empowerment\, heartbreak\, and real life – danceable\, emotional\, full of attitude. Her message: Be yourself\, loud and unapologetic. If you’re into strong female voices\, modern pop\, and good Viennese wit – you won’t want to miss Kosik.
URL:https://filmfestival-rathausplatz.at/en/event/film-festival-sounds-presented-by-aperol-8/
CATEGORIES:side event
ATTACH;FMTTYPE=image/png:https://filmfestival-rathausplatz.at/wp-content/uploads/sites/3/2025/06/FF25_Website_Vorschaubereich_SideEvents.png
END:VEVENT
BEGIN:VEVENT
DTSTART;TZID=Europe/Vienna:20250703T170000
DTEND;TZID=Europe/Vienna:20250703T230000
DTSTAMP:20260421T145655
CREATED:20250620T122752Z
LAST-MODIFIED:20250801T070648Z
UID:12639-1751562000-1751583600@filmfestival-rathausplatz.at
SUMMARY:Golden Hour Sessions
DESCRIPTION:Live DJ sets from Radio ENERGY ÖSTERREICH\, after-work vibes and space for spontaneous encounters
URL:https://filmfestival-rathausplatz.at/en/event/golden-hour-sessions/
CATEGORIES:side event
ATTACH;FMTTYPE=image/png:https://filmfestival-rathausplatz.at/wp-content/uploads/sites/3/2025/06/FF25_Website_Vorschaubereich_SideEvents.png
END:VEVENT
BEGIN:VEVENT
DTSTART;TZID=Europe/Vienna:20250827T203000
DTEND;TZID=Europe/Vienna:20250827T231200
DTSTAMP:20260421T145655
CREATED:20250613T095834Z
LAST-MODIFIED:20250618T055544Z
UID:12104-1756326600-1756336320@filmfestival-rathausplatz.at
SUMMARY:Bruce Springsteen And The E Street Band –  Live In Barcelona
DESCRIPTION:In October 2002\, Bruce Springsteen and the E Street Band brought the house down at the Palau Sant Jordi in Barcelona. Filmed on the “Badlands Tour”\, this concert captures the energy and excitement of the evening. Bruce Springsteen and the E Street Band perform a set of greatest hits including “Dancing In The Dark”\, “Born To Run”\, “Thunder Road” and “Born In The USA”.
URL:https://filmfestival-rathausplatz.at/en/event/bruce-springsteen-and-the-e-street-band-live-in-barcelona-2/
CATEGORIES:rock
ATTACH;FMTTYPE=image/png:https://filmfestival-rathausplatz.at/wp-content/uploads/sites/3/2025/06/FF25_Website_Vorschaubereich_Pop-Rock.png
END:VEVENT
BEGIN:VEVENT
DTSTART;TZID=Europe/Vienna:20250827T170000
DTEND;TZID=Europe/Vienna:20250827T230000
DTSTAMP:20260421T145655
CREATED:20250613T095831Z
LAST-MODIFIED:20250617T134347Z
UID:12103-1756314000-1756335600@filmfestival-rathausplatz.at
SUMMARY:Energy Sunset Beats
DESCRIPTION:Live DJs from the ENERGY EXTRAVADANCE radio show provide a club feeling\nand the perfect after-work soundtrack.
URL:https://filmfestival-rathausplatz.at/en/event/energy-sunset-beats-27/
CATEGORIES:side event
ATTACH;FMTTYPE=image/png:https://filmfestival-rathausplatz.at/wp-content/uploads/sites/3/2025/06/FF25_Website_Vorschaubereich_SideEvents.png
END:VEVENT
BEGIN:VEVENT
DTSTART;TZID=Europe/Vienna:20250826T203000
DTEND;TZID=Europe/Vienna:20250826T223200
DTSTAMP:20260421T145655
CREATED:20250613T095827Z
LAST-MODIFIED:20250617T134311Z
UID:12102-1756240200-1756247520@filmfestival-rathausplatz.at
SUMMARY:Elisabeth – Live In Schönbrunn
DESCRIPTION:Treading a tightrope between death\, life and intense romance in the opulent world of 19th-century Habsburg royalty\, “Elisabeth” tells the story of the beautiful Empress of Austria\, from her wedding to her tragic assassination. On the occasion of its 30th anniversary\, this spectacular open-air event presents “Elisabeth” at the fabled empress’s real-life home – the Schönbrunn Palace in Vienna.
URL:https://filmfestival-rathausplatz.at/en/event/elisabeth-live-in-schoenbrunn-2/
CATEGORIES:musical
ATTACH;FMTTYPE=image/png:https://filmfestival-rathausplatz.at/wp-content/uploads/sites/3/2025/06/FF25_Website_Vorschaubereich_Operette-Musical.png
END:VEVENT
BEGIN:VEVENT
DTSTART;TZID=Europe/Vienna:20250826T170000
DTEND;TZID=Europe/Vienna:20250826T230000
DTSTAMP:20260421T145655
CREATED:20250613T095820Z
LAST-MODIFIED:20250617T133939Z
UID:12101-1756227600-1756249200@filmfestival-rathausplatz.at
SUMMARY:Energy Sunset Beats
DESCRIPTION:Live DJs from the ENERGY EXTRAVADANCE radio show provide a club feeling\nand the perfect after-work soundtrack.
URL:https://filmfestival-rathausplatz.at/en/event/energy-sunset-beats-26/
CATEGORIES:side event
ATTACH;FMTTYPE=image/png:https://filmfestival-rathausplatz.at/wp-content/uploads/sites/3/2025/06/FF25_Website_Vorschaubereich_SideEvents.png
END:VEVENT
BEGIN:VEVENT
DTSTART;TZID=Europe/Vienna:20250825T203500
DTEND;TZID=Europe/Vienna:20250825T231400
DTSTAMP:20260421T145655
CREATED:20250613T095817Z
LAST-MODIFIED:20250617T133858Z
UID:12100-1756154100-1756163640@filmfestival-rathausplatz.at
SUMMARY:Norma: Theater An Der Wien
DESCRIPTION:Norma is a druid priestess\, secretly the lover of the Roman general Pollione and mother of his children. When he leaves her for Adalgisa\, her double life is at risk. Caught between love\, revenge\, and duty\, she makes a radical decision. Director Vasily Barkhatov sets the story in a time of political upheaval – a gripping production; musically brilliant and emotionally intense.
URL:https://filmfestival-rathausplatz.at/en/event/norma-theater-an-der-wien/
CATEGORIES:opera
ATTACH;FMTTYPE=image/png:https://filmfestival-rathausplatz.at/wp-content/uploads/sites/3/2025/06/FF25_Website_Vorschaubereich_Oper-Ballett.png
END:VEVENT
BEGIN:VEVENT
DTSTART;TZID=Europe/Vienna:20250825T203000
DTEND;TZID=Europe/Vienna:20250825T203900
DTSTAMP:20260421T145655
CREATED:20250613T095814Z
LAST-MODIFIED:20250617T133739Z
UID:12099-1756153800-1756154340@filmfestival-rathausplatz.at
SUMMARY:DANUBE SO BLUE: I Paddle My Canoe 3m Below Civilisation
DESCRIPTION:Ironically\, while Johann Strauss suffers from panic fears that the Danube\, with the consequences of climate extremes and its morbid goings-on underground\, is no longer in keeping with his blue Danube\, the selfie-addicted Tödin falls in love with him. This creates further troubles on the Danube. \nThe best entries from the international short film competition “DANUBE SO BLUE” bring fresh Strauss sounds to Vienna’s Rathausplatz.
URL:https://filmfestival-rathausplatz.at/en/event/i-paddle-my-canoe-3m-below-civilisation/
CATEGORIES:short film
ATTACH;FMTTYPE=image/png:https://filmfestival-rathausplatz.at/wp-content/uploads/sites/3/2025/06/FF25_Website_Vorschaubereich_Kurzfilm.png
END:VEVENT
BEGIN:VEVENT
DTSTART;TZID=Europe/Vienna:20250825T170000
DTEND;TZID=Europe/Vienna:20250825T230000
DTSTAMP:20260421T145655
CREATED:20250613T095810Z
LAST-MODIFIED:20250617T133612Z
UID:12098-1756141200-1756162800@filmfestival-rathausplatz.at
SUMMARY:Energy Sunset Beats
DESCRIPTION:Live DJs from the ENERGY EXTRAVADANCE radio show provide a club feeling\nand the perfect after-work soundtrack.
URL:https://filmfestival-rathausplatz.at/en/event/energy-sunset-beats-25/
CATEGORIES:side event
ATTACH;FMTTYPE=image/png:https://filmfestival-rathausplatz.at/wp-content/uploads/sites/3/2025/06/FF25_Website_Vorschaubereich_SideEvents.png
END:VEVENT
BEGIN:VEVENT
DTSTART;TZID=Europe/Vienna:20250824T203000
DTEND;TZID=Europe/Vienna:20250824T233200
DTSTAMP:20260421T145655
CREATED:20250613T095806Z
LAST-MODIFIED:20250617T133547Z
UID:12097-1756067400-1756078320@filmfestival-rathausplatz.at
SUMMARY:Don Carlo: Vienna State Opera
DESCRIPTION:The Spanish heir to the throne\, Don Carlo\, was set to marry the French princess Elisabeth. However\, King Philip II unexpectedly declares his intention to marry Elisabeth himself\, leading her to comply with the king’s will. Don Carlo and the liberal Marquis Posa find themselves in conflict with the Grand Inquisitor due to their political ambitions. Director Kirill Serebrennikov brings “Don Carlo” into a contemporary context; drawing inspiration for the stage design and costumes from the Kyoto Costume Institute.
URL:https://filmfestival-rathausplatz.at/en/event/don-carlo-vienna-state-opera/
CATEGORIES:opera
ATTACH;FMTTYPE=image/png:https://filmfestival-rathausplatz.at/wp-content/uploads/sites/3/2025/06/FF25_Website_Vorschaubereich_Oper-Ballett.png
END:VEVENT
BEGIN:VEVENT
DTSTART;TZID=Europe/Vienna:20250824T120000
DTEND;TZID=Europe/Vienna:20250824T140000
DTSTAMP:20260421T145655
CREATED:20250613T095610Z
LAST-MODIFIED:20250617T133423Z
UID:12093-1756036800-1756044000@filmfestival-rathausplatz.at
SUMMARY:Jazz Brunch\, presented by Kultursommer Wien
DESCRIPTION:Every Sunday from 12 to 2 pm\, the Jazz Brunch invites you to take a musical stroll through the heart of Vienna: Directly on Rathausplatz\, visitors can enjoy musical highlights and new discoveries from the Austrian jazz scene in the open air. From classical to modern sounds\, newcomers and experienced connoisseurs alike can immerse themselves in the world of jazz and enjoy the unique atmosphere. The program is presented by Kultursommer Wien.
URL:https://filmfestival-rathausplatz.at/en/event/jazz-brunch-presented-by-kultursommer-wien-9/
CATEGORIES:side event
ATTACH;FMTTYPE=image/png:https://filmfestival-rathausplatz.at/wp-content/uploads/sites/3/2025/06/FF25_Website_Vorschaubereich_SideEvents.png
END:VEVENT
BEGIN:VEVENT
DTSTART;TZID=Europe/Vienna:20250823T221500
DTEND;TZID=Europe/Vienna:20250823T231300
DTSTAMP:20260421T145655
CREATED:20250613T095607Z
LAST-MODIFIED:20250617T133337Z
UID:12092-1755987300-1755990780@filmfestival-rathausplatz.at
SUMMARY:Best Of Glastonbury 2024 – With Coldplay\, Dua Lipa\, Shania Twain
DESCRIPTION:Music icons like Coldplay\, Dua Lipa\, and Shania Twain are among the big names performing on the main stage of the world’s most famous music festival. Coldplay makes history with their fifth headline show on the Pyramid Stage. Dua Lipa returns seven years after her debut\, while Shania Twain takes on the legendary Sunday “Legends” slot.
URL:https://filmfestival-rathausplatz.at/en/event/best-of-glastonbury-2024-with-coldplay-dua-lipa-shania-twain-2/
CATEGORIES:pop
ATTACH;FMTTYPE=image/png:https://filmfestival-rathausplatz.at/wp-content/uploads/sites/3/2025/06/FF25_Website_Vorschaubereich_Pop-Rock.png
END:VEVENT
BEGIN:VEVENT
DTSTART;TZID=Europe/Vienna:20250823T203000
DTEND;TZID=Europe/Vienna:20250823T220800
DTSTAMP:20260421T145655
CREATED:20250613T095604Z
LAST-MODIFIED:20250617T133143Z
UID:12091-1755981000-1755986880@filmfestival-rathausplatz.at
SUMMARY:Billie Eilish – Live At The O2
DESCRIPTION:Billie Eilish’s compelling concert film takes viewers on a visually captivating journey from beginning to end\, to the heart of Eilish’s record-breaking sold-out “Happier Than Ever\, The World Tour”. In just over 100 minutes\, it features 27 songs\, including hits and fan favourites – “Bad Guy”\, “Therefore I Am”\, “Bury A Friend”\, “Happier Than Ever”\, “Everything I Wanted”\, “Your Power” and many more.
URL:https://filmfestival-rathausplatz.at/en/event/billie-eilish-live-at-the-o2-2/
CATEGORIES:pop
ATTACH;FMTTYPE=image/png:https://filmfestival-rathausplatz.at/wp-content/uploads/sites/3/2025/06/FF25_Website_Vorschaubereich_Pop-Rock.png
END:VEVENT
BEGIN:VEVENT
DTSTART;TZID=Europe/Vienna:20250823T170000
DTEND;TZID=Europe/Vienna:20250828T190000
DTSTAMP:20260421T145655
CREATED:20250613T094831Z
LAST-MODIFIED:20250728T084211Z
UID:12067-1755968400-1756407600@filmfestival-rathausplatz.at
SUMMARY:Songwriter Sessions by Ever Artist
DESCRIPTION:Promising newcomers present their own songs – live\, acoustic\, and in an intimate setting\, hosted by Ever Artist and Maddy Rose. \nStage time:  \n17:00-17:25 Laura Heily \n17:30-17:55 SHA-N \n18:00-18:25 kleinabaoho \n18:30-18:55 TULATU
URL:https://filmfestival-rathausplatz.at/en/event/songwriter-sessions-by-ever-artist-2/
CATEGORIES:side event
ATTACH;FMTTYPE=image/png:https://filmfestival-rathausplatz.at/wp-content/uploads/sites/3/2025/06/FF25_Website_Vorschaubereich_SideEvents.png
END:VEVENT
BEGIN:VEVENT
DTSTART;TZID=Europe/Vienna:20250703T170000
DTEND;TZID=Europe/Vienna:20250703T230000
DTSTAMP:20260421T145655
CREATED:20250620T122752Z
LAST-MODIFIED:20250801T070648Z
UID:12639-1751562000-1751583600@filmfestival-rathausplatz.at
SUMMARY:Golden Hour Sessions
DESCRIPTION:Live DJ sets from Radio ENERGY ÖSTERREICH\, after-work vibes and space for spontaneous encounters
URL:https://filmfestival-rathausplatz.at/en/event/golden-hour-sessions/
CATEGORIES:side event
ATTACH;FMTTYPE=image/png:https://filmfestival-rathausplatz.at/wp-content/uploads/sites/3/2025/06/FF25_Website_Vorschaubereich_SideEvents.png
END:VEVENT
BEGIN:VEVENT
DTSTART;TZID=Europe/Vienna:20250822T203000
DTEND;TZID=Europe/Vienna:20250822T222300
DTSTAMP:20260421T145655
CREATED:20250613T095600Z
LAST-MODIFIED:20250617T132954Z
UID:12090-1755894600-1755901380@filmfestival-rathausplatz.at
SUMMARY:Whitney Houston – The Concert For A New South Africa
DESCRIPTION:In 1994\, Whitney Houston performed in South Africa\, with hits like “I Wanna Dance With Somebody”\, “How Will I Know”\, and “I Will Always Love You”\, in a series of three concerts in Durban\, Johannesburg\, and Cape Town\, entertaining over 200\,000 people. She was the first major Western artist to perform in the newly unified\, post-apartheid South Africa after Nelson Mandela’s historic election victory.
URL:https://filmfestival-rathausplatz.at/en/event/whitney-houston-the-concert-for-a-new-south-africa-2/
CATEGORIES:pop
ATTACH;FMTTYPE=image/png:https://filmfestival-rathausplatz.at/wp-content/uploads/sites/3/2025/06/FF25_Website_Vorschaubereich_Pop-Rock.png
END:VEVENT
END:VCALENDAR